BEGIN:VCALENDAR
PRODID:-//eluceo/ical//2.0/EN
VERSION:2.0
CALSCALE:GREGORIAN
BEGIN:VEVENT
UID:679f726da71f67878d987ec9b6c4b48d
DTSTAMP:20260421T075435Z
SUMMARY:eTwinning Workshop for School Leaders in der Türkei
DTSTART:20251106T130000
DTEND:20251108T130000
END:VEVENT
END:VCALENDAR
