BEGIN:VCALENDAR
PRODID:-//eluceo/ical//2.0/EN
VERSION:2.0
CALSCALE:GREGORIAN
BEGIN:VEVENT
UID:402aaafaa542e9134111279a8f5074f5
DTSTAMP:20260421T080129Z
SUMMARY:Fragestunde für Antragsteller/innen der Erasmus-Akkreditierung im 
 Bereich Schulbildung
DTSTART:20250910T150000
DTEND:20250910T170000
END:VEVENT
END:VCALENDAR
