BEGIN:VCALENDAR
PRODID:-//eluceo/ical//2.0/EN
VERSION:2.0
CALSCALE:GREGORIAN
BEGIN:VEVENT
UID:96c7037c61a625eb83d9024d6f322106
DTSTAMP:20260422T134927Z
SUMMARY:eTwinning-Seminar in Luxemburg: Basic Skills im Fokus - eTwinning i
 m Grundschulunterricht
DTSTART:20261008T140000
DTEND:20261010T123000
END:VEVENT
END:VCALENDAR
