BEGIN:VCALENDAR
PRODID:-//eluceo/ical//2.0/EN
VERSION:2.0
CALSCALE:GREGORIAN
BEGIN:VEVENT
UID:c65959bb8613befad380581382b25d27
DTSTAMP:20260420T124523Z
SUMMARY:Webinar: eTwinning für Anfänger:innen 
DTSTART:20260512T160000
DTEND:20260512T170000
END:VEVENT
END:VCALENDAR
